BEGIN:VCALENDAR
VERSION:2.0
PRODID:-//Wohnen ohne Alterslimit - ECPv5.16.3//NONSGML v1.0//EN
CALSCALE:GREGORIAN
METHOD:PUBLISH
X-WR-CALNAME:Wohnen ohne Alterslimit
X-ORIGINAL-URL:https://wohnen-ohne-alterslimit.at
X-WR-CALDESC:Veranstaltungen für Wohnen ohne Alterslimit
BEGIN:VTIMEZONE
TZID:Europe/Paris
BEGIN:DAYLIGHT
TZOFFSETFROM:+0100
TZOFFSETTO:+0200
TZNAME:CEST
DTSTART:20230326T010000
END:DAYLIGHT
BEGIN:STANDARD
TZOFFSETFROM:+0200
TZOFFSETTO:+0100
TZNAME:CET
DTSTART:20231029T010000
END:STANDARD
END:VTIMEZONE
BEGIN:VEVENT
DTSTART;TZID=Europe/Paris:20230605T190000
DTEND;TZID=Europe/Paris:20230605T210000
DTSTAMP:20260424T110802
CREATED:20230410T131155Z
LAST-MODIFIED:20230410T131544Z
UID:1490-1685991600-1685998800@wohnen-ohne-alterslimit.at
SUMMARY:Infoveranstaltung – Juni 2023
DESCRIPTION:INFO-VERANSTALTUNG\nDatum:  Montag\, 5. Juni\, 19:00 bis 21:00 Uhr\nOrt:        1100 Wien\, Quellenstraße 149 – in den\n.                Räumen des Stadtteilbüros für die Bez. 3\,4\,5\,10 und 11 (Gebietsbetreuung)\n.\nBitte um Anmeldung für diesen Termin bei\nUlrike Ploil (u.ploil@gmx.at).\nDeine/Ihre Anmeldung ist erforderlich\, damit wir besser planen und ggf. Absagen oder Änderungen kommunizieren können. \n\nBei den regelmäßig stattfindenden Infoabenden stellen wir das WOAL-Konzept vor:\n\n\ndie Vier Eckpfeiler der WOAL-Häuser\ndas WOAL Organisationskonzept\ndas WOAL Betreuungs- und Pflegekonzept\ndie BewohnerInnen\ndas Raum- und Nutzungskonzept\ndie Finanzierung\ndie rechtliche Konstruktion\n\n\n\n\n\n… und berichten kurz über aktuelle Entwicklungen\n\nFalls du schon einmal einen Infoabend besucht hast und dich für unser erstes WOAL-Haus in der Kurbadstraße Oberlaa interessierst\, melde dich bitte nicht noch einmal für einen Infoabend an\, sondern besuche einen „Stammtisch“ (Termine siehe Veranstaltungsankündigungen).
URL:https://wohnen-ohne-alterslimit.at/veranstaltung/56-info/
LOCATION:Stadtteilbüro für die Bez. 3\,4\,5\,10\,11\, Quellenstraße 149\, 1100 Wien
END:VEVENT
END:VCALENDAR