BEGIN:VCALENDAR
VERSION:2.0
PRODID:-//Wohnen ohne Alterslimit - ECPv5.16.3//NONSGML v1.0//EN
CALSCALE:GREGORIAN
METHOD:PUBLISH
X-WR-CALNAME:Wohnen ohne Alterslimit
X-ORIGINAL-URL:https://wohnen-ohne-alterslimit.at
X-WR-CALDESC:Veranstaltungen für Wohnen ohne Alterslimit
BEGIN:VTIMEZONE
TZID:Europe/Paris
BEGIN:DAYLIGHT
TZOFFSETFROM:+0100
TZOFFSETTO:+0200
TZNAME:CEST
DTSTART:20230326T010000
END:DAYLIGHT
BEGIN:STANDARD
TZOFFSETFROM:+0200
TZOFFSETTO:+0100
TZNAME:CET
DTSTART:20231029T010000
END:STANDARD
END:VTIMEZONE
BEGIN:VEVENT
DTSTART;TZID=Europe/Paris:20230618T000000
DTEND;TZID=Europe/Paris:20230618T000000
DTSTAMP:20260424T111101
CREATED:20230410T135414Z
LAST-MODIFIED:20230519T090431Z
UID:1508-1687046400-1687046400@wohnen-ohne-alterslimit.at
SUMMARY:Bauplatzwanderung - Juni 2023
DESCRIPTION:Bauplatzwanderung\n– eine Veranstaltung im Rahmen der WOAL-Dialogformate \n\nDatum:  Sonntag 18. Juni 2023  (Achtung: entfällt bei schrecklichem Regenwetter)\nTeilnahmevoraussetzung ist der Besuch eines Info-Abends! Einladungen werden per E-Mail an alle Teilnehmer:innen der bisherigen Infoabende ausgeschickt.\nAnmeldung\, Info und ev. kurzfristige Abmeldung bei Ortrun Köhler\, Tel: 0699 192 50 992;\n(ortrun.koehler@gmx.at) \nWas erwartet euch?\n \n\nOrientierung über das gesamte Quartier bei den Ausstellungswänden\nKurzer Spaziergang über das Quartiersgelände zu unserem Bauplatz\nSpaß\, Info und ein bisschen Aktionismus: wir vermessen unser zukünftiges Haus und lernen die direkte Umgebung kennen – Wege\, Blicke\, Bäume\, Aussichten …..\nWenn das Wetter nett ist\, und wir uns gerne im Freien aufhalten\, dann sind bis dahin  1 ½ bis 2 Stunden vergangen.\nSpaziergang (ca 30 Minuten) in das Dorf Oberlaa\nEinkehr bei einem der Heurigen\n\nDurchführung: Ortrun Köhler und Ursula Wagner
URL:https://wohnen-ohne-alterslimit.at/veranstaltung/baustellenwanderung-juni-2023/
END:VEVENT
END:VCALENDAR