BEGIN:VCALENDAR
VERSION:2.0
PRODID:-//Wohnen ohne Alterslimit - ECPv5.16.3//NONSGML v1.0//EN
CALSCALE:GREGORIAN
METHOD:PUBLISH
X-WR-CALNAME:Wohnen ohne Alterslimit
X-ORIGINAL-URL:https://wohnen-ohne-alterslimit.at
X-WR-CALDESC:Veranstaltungen für Wohnen ohne Alterslimit
BEGIN:VTIMEZONE
TZID:Europe/Helsinki
BEGIN:DAYLIGHT
TZOFFSETFROM:+0200
TZOFFSETTO:+0300
TZNAME:EEST
DTSTART:20160327T010000
END:DAYLIGHT
BEGIN:STANDARD
TZOFFSETFROM:+0300
TZOFFSETTO:+0200
TZNAME:EET
DTSTART:20161030T010000
END:STANDARD
END:VTIMEZONE
BEGIN:VEVENT
DTSTART;TZID=Europe/Helsinki:20160122T183000
DTEND;TZID=Europe/Helsinki:20160122T213000
DTSTAMP:20260424T194425
CREATED:20160520T105733Z
LAST-MODIFIED:20160529T140138Z
UID:309-1453487400-1453498200@wohnen-ohne-alterslimit.at
SUMMARY:Einführung in die Soziokratie
DESCRIPTION:
URL:https://wohnen-ohne-alterslimit.at/veranstaltung/einfuehrung-in-die-soziokratie/
LOCATION:Küchentisch von Ursula und Eugen\, Helblinggasse 14/9\, Wien\, 1170
CATEGORIES:WOAL Kerngruppe
END:VEVENT
END:VCALENDAR