BEGIN:VCALENDAR
VERSION:2.0
PRODID:-//Wohnen ohne Alterslimit - ECPv5.16.3//NONSGML v1.0//EN
CALSCALE:GREGORIAN
METHOD:PUBLISH
X-WR-CALNAME:Wohnen ohne Alterslimit
X-ORIGINAL-URL:https://wohnen-ohne-alterslimit.at
X-WR-CALDESC:Veranstaltungen für Wohnen ohne Alterslimit
BEGIN:VTIMEZONE
TZID:Europe/Helsinki
BEGIN:DAYLIGHT
TZOFFSETFROM:+0200
TZOFFSETTO:+0300
TZNAME:EEST
DTSTART:20160327T010000
END:DAYLIGHT
BEGIN:STANDARD
TZOFFSETFROM:+0300
TZOFFSETTO:+0200
TZNAME:EET
DTSTART:20161030T010000
END:STANDARD
END:VTIMEZONE
BEGIN:VEVENT
DTSTART;TZID=Europe/Helsinki:20160121T173000
DTEND;TZID=Europe/Helsinki:20160121T203000
DTSTAMP:20260424T194601
CREATED:20160520T112210Z
LAST-MODIFIED:20160529T140105Z
UID:311-1453397400-1453408200@wohnen-ohne-alterslimit.at
SUMMARY:Große WOAL-Runde
DESCRIPTION:Grundzüge des WOAL-Betreuungs- und Pflegekonzepts\nVorstellung von SAIL-Vienna http://sailvienna2035.at\nWOAL-Projektidee für Klosterneuburg
URL:https://wohnen-ohne-alterslimit.at/veranstaltung/grosse-woal-runde/
LOCATION:Armutskonferenz\, Herklotzgasse 21/3 1.Stock\, Wien\, 1150\, Österreich
CATEGORIES:WOAL für alle
END:VEVENT
END:VCALENDAR