BEGIN:VCALENDAR
VERSION:2.0
PRODID:-//Wohnen ohne Alterslimit - ECPv5.16.3//NONSGML v1.0//EN
CALSCALE:GREGORIAN
METHOD:PUBLISH
X-WR-CALNAME:Wohnen ohne Alterslimit
X-ORIGINAL-URL:https://wohnen-ohne-alterslimit.at
X-WR-CALDESC:Veranstaltungen für Wohnen ohne Alterslimit
BEGIN:VTIMEZONE
TZID:Europe/Helsinki
BEGIN:DAYLIGHT
TZOFFSETFROM:+0200
TZOFFSETTO:+0300
TZNAME:EEST
DTSTART:20160327T010000
END:DAYLIGHT
BEGIN:STANDARD
TZOFFSETFROM:+0300
TZOFFSETTO:+0200
TZNAME:EET
DTSTART:20161030T010000
END:STANDARD
END:VTIMEZONE
BEGIN:VEVENT
DTSTART;TZID=Europe/Helsinki:20160701T180000
DTEND;TZID=Europe/Helsinki:20160701T210000
DTSTAMP:20260424T183714
CREATED:20160502T085943Z
LAST-MODIFIED:20160609T125010Z
UID:279-1467396000-1467406800@wohnen-ohne-alterslimit.at
SUMMARY:Großes WOAL-Treffen
DESCRIPTION:Einführung in die Prinzipien und Methoden der Soziokratie\,\n„Leitbild“-Diskussion\,\nWOAL-Betreuungs- und Pflegekonzept\,\nBudgetbericht bzw. -plan\,\nVorstellung der Genossenschaft „Die WoGen“.\n\nzur Einladung  als pdf
URL:https://wohnen-ohne-alterslimit.at/veranstaltung/grosses-woal-treffen/
LOCATION:Armutskonferenz\, Herklotzgasse 21/3 1.Stock\, Wien\, 1150\, Österreich
CATEGORIES:WOAL für alle
END:VEVENT
END:VCALENDAR