BEGIN:VCALENDAR
VERSION:2.0
PRODID:-//Wohnen ohne Alterslimit - ECPv5.16.3//NONSGML v1.0//EN
CALSCALE:GREGORIAN
METHOD:PUBLISH
X-WR-CALNAME:Wohnen ohne Alterslimit
X-ORIGINAL-URL:https://wohnen-ohne-alterslimit.at
X-WR-CALDESC:Veranstaltungen für Wohnen ohne Alterslimit
BEGIN:VTIMEZONE
TZID:Europe/Helsinki
BEGIN:DAYLIGHT
TZOFFSETFROM:+0200
TZOFFSETTO:+0300
TZNAME:EEST
DTSTART:20200329T010000
END:DAYLIGHT
BEGIN:STANDARD
TZOFFSETFROM:+0300
TZOFFSETTO:+0200
TZNAME:EET
DTSTART:20201025T010000
END:STANDARD
END:VTIMEZONE
BEGIN:VEVENT
DTSTART;TZID=Europe/Helsinki:20200416T180000
DTEND;TZID=Europe/Helsinki:20200416T200000
DTSTAMP:20260424T173200
CREATED:20200121T131831Z
LAST-MODIFIED:20200321T105532Z
UID:550-1587060000-1587067200@wohnen-ohne-alterslimit.at
SUMMARY:Infoveranstaltung April (wird abgesagt!)
DESCRIPTION:Der für 16. April geplante Termin wird ABGESAGT und findet\nvoraussichtlich am 26. Mai 2020 statt! \n  \nWir versuchen\, unser erstes WOAL-Haus zu denken\, zu planen\, zu realisieren.  \nWir suchen MitdenkerInnen\, MitentwicklerInnen\, MitstreiterInnen. \nWir freuen uns über neue Mitglieder!\nWir freuen uns über Unterstützung!\nWir laden euch zu Infoveranstaltungen ein!\nWir bitten euch\, die Einladung an Interessierte weiterzuleiten!
URL:https://wohnen-ohne-alterslimit.at/veranstaltung/infoveranstaltung-april/
LOCATION:Armutskonferenz\, Herklotzgasse 21/3 1.Stock\, Wien\, 1150\, Österreich
END:VEVENT
END:VCALENDAR