BEGIN:VCALENDAR
VERSION:2.0
PRODID:-//Wohnen ohne Alterslimit - ECPv5.16.3//NONSGML v1.0//EN
CALSCALE:GREGORIAN
METHOD:PUBLISH
X-WR-CALNAME:Wohnen ohne Alterslimit
X-ORIGINAL-URL:https://wohnen-ohne-alterslimit.at
X-WR-CALDESC:Veranstaltungen für Wohnen ohne Alterslimit
BEGIN:VTIMEZONE
TZID:Europe/Helsinki
BEGIN:DAYLIGHT
TZOFFSETFROM:+0200
TZOFFSETTO:+0300
TZNAME:EEST
DTSTART:20200329T010000
END:DAYLIGHT
BEGIN:STANDARD
TZOFFSETFROM:+0300
TZOFFSETTO:+0200
TZNAME:EET
DTSTART:20201025T010000
END:STANDARD
END:VTIMEZONE
BEGIN:VEVENT
DTSTART;TZID=Europe/Helsinki:20201203T190000
DTEND;TZID=Europe/Helsinki:20201203T210000
DTSTAMP:20260424T161109
CREATED:20201024T111406Z
LAST-MODIFIED:20201117T155910Z
UID:766-1607022000-1607029200@wohnen-ohne-alterslimit.at
SUMMARY:Infoveranstaltung Dezember
DESCRIPTION:Datum:   Donnerstag\, 3. Dezember 2020 \nUhrzeit:  19 bis 21 Uhr\nOrt:          — —\n .\nDer für 3. Dezember geplante Info-Abend wird ONLINE (mittels Zoom-Konferenz) stattfinden!\nAlle\, die dabei sein wollen\, erhalten spätestens am 2.12. einen Einladungslink per Mail geschickt. Für die Teilnahme an einer Zoom-Konferenz muss man keine Software auf den eigenen PC/Laptop/Mobilgerät laden\, sondern nur den zugesandten Link im Browser öffnen.\n .\nBitte um Anmeldungen für diesen Termin entweder an birgit.mollik@rewalk.net oder an ulrike.kobrna@gmx.at.\n(Wer technische Hilfestellung für die Zoom-Teilnahme braucht\, bitte bei der Anmeldung mitteilen\, dann versuchen wir das im Vorfeld zu klären.)\n 
URL:https://wohnen-ohne-alterslimit.at/veranstaltung/infoveranstaltung-dezember/
END:VEVENT
END:VCALENDAR