BEGIN:VCALENDAR
VERSION:2.0
PRODID:-//Wohnen ohne Alterslimit - ECPv5.16.3//NONSGML v1.0//EN
CALSCALE:GREGORIAN
METHOD:PUBLISH
X-WR-CALNAME:Wohnen ohne Alterslimit
X-ORIGINAL-URL:https://wohnen-ohne-alterslimit.at
X-WR-CALDESC:Veranstaltungen für Wohnen ohne Alterslimit
BEGIN:VTIMEZONE
TZID:Europe/Helsinki
BEGIN:DAYLIGHT
TZOFFSETFROM:+0200
TZOFFSETTO:+0300
TZNAME:EEST
DTSTART:20220327T010000
END:DAYLIGHT
BEGIN:STANDARD
TZOFFSETFROM:+0300
TZOFFSETTO:+0200
TZNAME:EET
DTSTART:20221030T010000
END:STANDARD
END:VTIMEZONE
BEGIN:VEVENT
DTSTART;TZID=Europe/Helsinki:20220511T180000
DTEND;TZID=Europe/Helsinki:20220511T200000
DTSTAMP:20260424T145554
CREATED:20220406T151820Z
LAST-MODIFIED:20220510T155011Z
UID:1120-1652292000-1652299200@wohnen-ohne-alterslimit.at
SUMMARY:Infoveranstaltung Mai 2022 (abgesagt!)
DESCRIPTION:  \n\nINFO-VERANSTALTUNG\nDatum:   Mittwoch\, 11.5. – 18:00 bis 20:00 Uhr\nACHTUNG:  Wegen zu geringer Teilnehmerzahl wird dieser Infoabend (leider) abgesagt !!! \nOrt:          1150 Wien\, Herklotzgasse 21/3\n                   in den Räumen der Armutskonferenz *)\n.\nBitte um Anmeldung für diesen Termin bei Ulli Kobrna \n(ulrike.kobrna@gmx.at).\nDeine/Ihre Anmeldung ist erforderlich\, damit wir im Vorfeld die zu  diesem Zeitpunkt geltenden corona-bedingten Maßnahmen koordinieren und kommunizieren können. \n\nWir versuchen\, unser erstes WOAL-Haus zu denken\, zu planen\, zu realisieren! \nBei den regelmäßig stattfindenden Infoabenden stellen wir das WOAL-Konzept vor:\n\n\ndie Vier Eckpfeiler der WOAL-Häuser\ndas WOAL Organisationskonzept\ndas WOAL Betreuungs- und Pflegekonzept\ndie BewohnerInnen\ndas Raum- und Nutzungskonzept\ndie Finanzierung\ndie rechtliche Konstruktion\n\n.. und berichten über den aktuellen Projektfortschritt und beantworten alle eure Fragen.\n.\n*) Sollte dieser Termin als Präsenzveranstaltung nicht möglich sein\, wird er online mittels Zoom­-Konferenz stattfinden.\n.
URL:https://wohnen-ohne-alterslimit.at/veranstaltung/infoveranstaltung-mai-2022/
LOCATION:Armutskonferenz\, Herklotzgasse 21/3 1.Stock\, Wien\, 1150\, Österreich
END:VEVENT
END:VCALENDAR