BEGIN:VCALENDAR
VERSION:2.0
PRODID:-//Wohnen ohne Alterslimit - ECPv5.16.3//NONSGML v1.0//EN
CALSCALE:GREGORIAN
METHOD:PUBLISH
X-WR-CALNAME:Wohnen ohne Alterslimit
X-ORIGINAL-URL:https://wohnen-ohne-alterslimit.at
X-WR-CALDESC:Veranstaltungen für Wohnen ohne Alterslimit
BEGIN:VTIMEZONE
TZID:Europe/Helsinki
BEGIN:DAYLIGHT
TZOFFSETFROM:+0200
TZOFFSETTO:+0300
TZNAME:EEST
DTSTART:20150329T010000
END:DAYLIGHT
BEGIN:STANDARD
TZOFFSETFROM:+0300
TZOFFSETTO:+0200
TZNAME:EET
DTSTART:20151025T010000
END:STANDARD
END:VTIMEZONE
BEGIN:VEVENT
DTSTART;TZID=Europe/Helsinki:20150731T170000
DTEND;TZID=Europe/Helsinki:20150802T130000
DTSTAMP:20260424T205738
CREATED:20160520T120815Z
LAST-MODIFIED:20160529T135901Z
UID:319-1438362000-1438520400@wohnen-ohne-alterslimit.at
SUMMARY:Klausur zum WOAL-Betreuungs- und Pflegekonzept
DESCRIPTION:
URL:https://wohnen-ohne-alterslimit.at/veranstaltung/klausur-zum-woal-betreuungs-und-pflegekonzept-2/
LOCATION:Landhotel Yspertal\, Ysper 1\, Yspertal\, 3683
CATEGORIES:WOAL Kerngruppe
END:VEVENT
END:VCALENDAR