BEGIN:VCALENDAR
VERSION:2.0
PRODID:-//Wohnen ohne Alterslimit - ECPv5.16.3//NONSGML v1.0//EN
CALSCALE:GREGORIAN
METHOD:PUBLISH
X-WR-CALNAME:Wohnen ohne Alterslimit
X-ORIGINAL-URL:https://wohnen-ohne-alterslimit.at
X-WR-CALDESC:Veranstaltungen für Wohnen ohne Alterslimit
BEGIN:VTIMEZONE
TZID:Europe/Helsinki
BEGIN:DAYLIGHT
TZOFFSETFROM:+0200
TZOFFSETTO:+0300
TZNAME:EEST
DTSTART:20150329T010000
END:DAYLIGHT
BEGIN:STANDARD
TZOFFSETFROM:+0300
TZOFFSETTO:+0200
TZNAME:EET
DTSTART:20151025T010000
END:STANDARD
END:VTIMEZONE
BEGIN:VEVENT
DTSTART;TZID=Europe/Helsinki:20151114T100000
DTEND;TZID=Europe/Helsinki:20151114T170000
DTSTAMP:20260424T194601
CREATED:20160520T115244Z
LAST-MODIFIED:20160529T135952Z
UID:313-1447495200-1447520400@wohnen-ohne-alterslimit.at
SUMMARY:Klausur zum WOAL-Betreuungs- und Pflegekonzepts
DESCRIPTION:
URL:https://wohnen-ohne-alterslimit.at/veranstaltung/klausur-zum-woal-betreuungs-und-pflegekonzepts/
LOCATION:Armutskonferenz\, Herklotzgasse 21/3 1.Stock\, Wien\, 1150\, Österreich
CATEGORIES:WOAL Kerngruppe
END:VEVENT
END:VCALENDAR