BEGIN:VCALENDAR
VERSION:2.0
PRODID:-//Wohnen ohne Alterslimit - ECPv5.16.3//NONSGML v1.0//EN
CALSCALE:GREGORIAN
METHOD:PUBLISH
X-WR-CALNAME:Wohnen ohne Alterslimit
X-ORIGINAL-URL:https://wohnen-ohne-alterslimit.at
X-WR-CALDESC:Veranstaltungen für Wohnen ohne Alterslimit
BEGIN:VTIMEZONE
TZID:Europe/Paris
BEGIN:DAYLIGHT
TZOFFSETFROM:+0100
TZOFFSETTO:+0200
TZNAME:CEST
DTSTART:20250330T010000
END:DAYLIGHT
BEGIN:STANDARD
TZOFFSETFROM:+0200
TZOFFSETTO:+0100
TZNAME:CET
DTSTART:20251026T010000
END:STANDARD
END:VTIMEZONE
BEGIN:VEVENT
DTSTART;TZID=Europe/Paris:20250611T183000
DTEND;TZID=Europe/Paris:20250611T210000
DTSTAMP:20260423T204229
CREATED:20250419T142440Z
LAST-MODIFIED:20250509T132322Z
UID:3273-1749666600-1749675600@wohnen-ohne-alterslimit.at
SUMMARY:Küchentisch
DESCRIPTION:Liebe Mitglieder des Vereins und der Genossenschaft\, wir laden euch zum\nKüchentisch am Mittwoch den 11. Juni 2025 von 18:30 bis 21:30\nin der Gebietsbetreuung 10. Quellenstrasse 149 \n\nDer Weg bis zur Erstbesiedelung\nDie Schritte zur Vorbereitung der Besiedelung von Seiten der Genossenschaft und der\nBewohner:innen. Ziel ist eine stabile Bewohner:innengruppe und eine fundierte Entscheidung jeder einzelnen Person. \nAuf dem Weg dorthin tauchen unter anderem folgende Fragen auf: \n•  Was müssen wir als Bewohner:in lernen\, um in einem selbstverwalteten\,\nsoziokratisch und solidarisch organisierten Projekt zu wohnen?\n•  Was muss die Genossenschaft zur Verfügung stellen?\n•  Welchen Einfluss hat mein Einkommen/Vermögen und mein Alter auf die Aufnahme?\n•  Wieviel Geld benötige ich für den Einstieg (Genossenschaftsbeitrag WOAL und\nGartenheim\, Ausstattungsbeitrag)?\n•  Welche Rolle spielt meine Gesundheit und meine Selbstpflegekompetenz?\n•  Mit wem werde ich die WG teilen und wie ist der Prozess dorthin?\n•  Wer entscheidet\, welche Personen einziehen?\n•  Bis wann muss ich mich entschieden haben?\n•  Mit wieviel Personen rechnen wir bei der Erstbesiedelung?\n•  Was passiert mit den leerstehenden Räumen (Zwischennutzung) \nWir berichten\, was schon geklärt ist\, was noch offen ist und  wir sind neugierig auf Eure Fragen. \nDiese Veranstaltung ist ausschließlich für Vereins- und/oder Genossenschaftsmitglieder. \nAnmeldung: uschi.tiefenbacher@woal.at \nAnschließend werden wir den Abend gemütlich ausklingen lassen.\nEin Unkostenbeitrag für Material und Snacks erleichtert unsere Arbeit. \nLiebe Grüße\nUschi und Barbara
URL:https://wohnen-ohne-alterslimit.at/veranstaltung/kuechentisch-3/
END:VEVENT
END:VCALENDAR