BEGIN:VCALENDAR
VERSION:2.0
PRODID:-//Wohnen ohne Alterslimit - ECPv5.16.3//NONSGML v1.0//EN
CALSCALE:GREGORIAN
METHOD:PUBLISH
X-WR-CALNAME:Wohnen ohne Alterslimit
X-ORIGINAL-URL:https://wohnen-ohne-alterslimit.at
X-WR-CALDESC:Veranstaltungen für Wohnen ohne Alterslimit
BEGIN:VTIMEZONE
TZID:Europe/Paris
BEGIN:DAYLIGHT
TZOFFSETFROM:+0100
TZOFFSETTO:+0200
TZNAME:CEST
DTSTART:20240331T010000
END:DAYLIGHT
BEGIN:STANDARD
TZOFFSETFROM:+0200
TZOFFSETTO:+0100
TZNAME:CET
DTSTART:20241027T010000
END:STANDARD
END:VTIMEZONE
BEGIN:VEVENT
DTSTART;TZID=Europe/Paris:20240320T183000
DTEND;TZID=Europe/Paris:20240320T210000
DTSTAMP:20260424T061142
CREATED:20240309T082001Z
LAST-MODIFIED:20240309T082001Z
UID:2742-1710959400-1710968400@wohnen-ohne-alterslimit.at
SUMMARY:Küchentisch – März 2024
DESCRIPTION:Küchentisch – März 2024\nDatum:  Mittwoch\, 20. März 2024\, 18:30 – 21:00 \nDer Küchentisch ist eine Veranstaltung  NUR  für die Mitglieder des Vereins und der Genossenschaft WOAL.\nDie Einladungen hierzu werden per Mail ausgeschickt\, sie enthalten auch den Ort und die Details für die Anmeldung. \n 
URL:https://wohnen-ohne-alterslimit.at/veranstaltung/kuechentisch-maerz-2024/
END:VEVENT
END:VCALENDAR