BEGIN:VCALENDAR
VERSION:2.0
PRODID:-//Wohnen ohne Alterslimit - ECPv5.16.3//NONSGML v1.0//EN
CALSCALE:GREGORIAN
METHOD:PUBLISH
X-WR-CALNAME:Wohnen ohne Alterslimit
X-ORIGINAL-URL:https://wohnen-ohne-alterslimit.at
X-WR-CALDESC:Veranstaltungen für Wohnen ohne Alterslimit
BEGIN:VTIMEZONE
TZID:Europe/Paris
BEGIN:DAYLIGHT
TZOFFSETFROM:+0100
TZOFFSETTO:+0200
TZNAME:CEST
DTSTART:20260329T010000
END:DAYLIGHT
BEGIN:STANDARD
TZOFFSETFROM:+0200
TZOFFSETTO:+0100
TZNAME:CET
DTSTART:20261025T010000
END:STANDARD
END:VTIMEZONE
BEGIN:VEVENT
DTSTART;TZID=Europe/Paris:20260519T183000
DTEND;TZID=Europe/Paris:20260519T210000
DTSTAMP:20260421T084650
CREATED:20260414T134617Z
LAST-MODIFIED:20260414T134617Z
UID:3935-1779215400-1779224400@wohnen-ohne-alterslimit.at
SUMMARY:Stammtisch
DESCRIPTION:Liebe WOAL Mitglieder und WOAL Interessent:innen\, wir wollen euch herzlich einladen zum kommenden \nStammtisch am Dienstag\, 19. Mai 2026 von 18:30 bis 21:00 Uhr;\nin den Räumen der Gebietsbetreuung in der Quellenstraße 149\, 1100 Wien. \nSchaffe ich Gemeinschaft?\nDer Stammtisch richtet sich an alle Interessent*innen von WOAL. Ziel ist es\, einander für das zukünftige Leben im WOAL Haus Oberlaa besser kennen zu lernen. \nTeilnahmevoraussetzung ist der Besuch eines Infoabends.\nEin Unkostenbeitrag für Material und Snacks erleichtert unsere Arbeit. \nAnmeldung bei Ursula Wagner (ursula.wagner@woal.at)\nBitte gib uns deine Telefonnummer bekannt\, damit wir dich bei Bedarf erreichen können. \nWir freuen uns auf zahlreiche Anmeldungen!\nUrsula Wagner\, Barbara Hartl\, & Margret Weissenbacher \n  \n 
URL:https://wohnen-ohne-alterslimit.at/veranstaltung/stammtisch-14/
LOCATION:Gebietsbetreuung 1100 Wien\, Quellenstraße 149
END:VEVENT
END:VCALENDAR