BEGIN:VCALENDAR
VERSION:2.0
PRODID:-//Wohnen ohne Alterslimit - ECPv5.16.3//NONSGML v1.0//EN
CALSCALE:GREGORIAN
METHOD:PUBLISH
X-WR-CALNAME:Wohnen ohne Alterslimit
X-ORIGINAL-URL:https://wohnen-ohne-alterslimit.at
X-WR-CALDESC:Veranstaltungen für Wohnen ohne Alterslimit
BEGIN:VTIMEZONE
TZID:Europe/Paris
BEGIN:DAYLIGHT
TZOFFSETFROM:+0100
TZOFFSETTO:+0200
TZNAME:CEST
DTSTART:20240331T010000
END:DAYLIGHT
BEGIN:STANDARD
TZOFFSETFROM:+0200
TZOFFSETTO:+0100
TZNAME:CET
DTSTART:20241027T010000
END:STANDARD
END:VTIMEZONE
BEGIN:VEVENT
DTSTART;TZID=Europe/Paris:20241007T183000
DTEND;TZID=Europe/Paris:20241007T210000
DTSTAMP:20260424T015052
CREATED:20240913T075554Z
LAST-MODIFIED:20240913T080243Z
UID:2994-1728325800-1728334800@wohnen-ohne-alterslimit.at
SUMMARY:Stammtisch
DESCRIPTION:Liebe WOAL-Mitglieder und WOAL-Interessent:innen\, \nwir möchten euch herzlich einladen zum kommenden\nStammtisch mit dem Thema:  \nEin vergnüglicher Blick hinter die Kulissen von WOAL –\nSo bringen wir was weiter \nDatum:  7.Oktober\,   18:30 bis 21:00 Uhr\nOrt:  Gebietsbetreuung\, Quellenstraße 149\, 1100 Wien \nDer „WOAL-Stammtisch“\, eine Veranstaltung im Rahmen der WOAL-Dialogformate\, ist der Ort\, wo man am Laufenden gehalten wird über das Projekt: Kurbadstraße Oberlaa.\nHier habt ihr die Möglichkeit\, Fragen zum WOAL-Konzept und zum konkreten Projekt zu stellen\, zu diskutieren und zu plaudern.\nDer Stammtisch wird moderiert\, es bleibt aber auch ausreichend Zeit zum Austausch und um miteinander ins Gespräch zu kommen und einander – vielleicht als zukünftige WOAL-Bewohner:in – kennenzulernen. \nTeilnahmevoraussetzung ist der Besuch eines Infoabends.\nEinladungen werden per E-Mail an alle Teilnehmer:innen der bisherigen Infoabende ausgeschickt. \nUm einen Unkostenbeitrag für Material und Snacks wird gebeten. \nBitte meldet euch bis spätestens 4.10. an bei: \nOrtrun Köhler (ortrun.koehler@woal.at)  \n\nDie Anmeldung ist wichtig\, weil im Raum nur eine begrenzte Teilnehmer:innenanzahl erlaubt ist!\nUnd gebt uns bitte eure Telefonnummer bekannt für den Fall einer kurzfristigen Änderung. \n  \n 
URL:https://wohnen-ohne-alterslimit.at/veranstaltung/stammtisch-4/
END:VEVENT
END:VCALENDAR