BEGIN:VCALENDAR
VERSION:2.0
PRODID:-//Wohnen ohne Alterslimit - ECPv5.16.3//NONSGML v1.0//EN
CALSCALE:GREGORIAN
METHOD:PUBLISH
X-WR-CALNAME:Wohnen ohne Alterslimit
X-ORIGINAL-URL:https://wohnen-ohne-alterslimit.at
X-WR-CALDESC:Veranstaltungen für Wohnen ohne Alterslimit
BEGIN:VTIMEZONE
TZID:Europe/Paris
BEGIN:DAYLIGHT
TZOFFSETFROM:+0100
TZOFFSETTO:+0200
TZNAME:CEST
DTSTART:20240331T010000
END:DAYLIGHT
BEGIN:STANDARD
TZOFFSETFROM:+0200
TZOFFSETTO:+0100
TZNAME:CET
DTSTART:20241027T010000
END:STANDARD
END:VTIMEZONE
BEGIN:VEVENT
DTSTART;TZID=Europe/Paris:20241128T183000
DTEND;TZID=Europe/Paris:20241128T210000
DTSTAMP:20260421T073059
CREATED:20240913T121355Z
LAST-MODIFIED:20240913T122508Z
UID:3010-1732818600-1732827600@wohnen-ohne-alterslimit.at
SUMMARY:Stammtisch
DESCRIPTION:Vorankündigung für den \n\nStammtisch  am 28. November\,  18:30 bis 21:00 Uhr \n\nDer „WOAL-Stammtisch“\, eine Veranstaltung im Rahmen der WOAL-Dialogformate\, ist der Ort\, wo man am Laufenden gehalten wird über das Projekt: Kurbadstraße Oberlaa.\nHier habt ihr die Möglichkeit\, Fragen zum WOAL-Konzept und zum konkreten Projekt zu stellen\, zu diskutieren und zu plaudern.\nDer Stammtisch wird moderiert\, es bleibt aber auch ausreichend Zeit zum Austausch und um miteinander ins Gespräch zu kommen und einander – vielleicht als zukünftige WOAL-Bewohner:in – kennenzulernen. \nTeilnahmevoraussetzung ist der Besuch eines Infoabends.\nEinladungen werden per E-Mail an alle Teilnehmer:innen der bisherigen Infoabende ausgeschickt. \nDetails folgen zeitnah.
URL:https://wohnen-ohne-alterslimit.at/veranstaltung/stammtisch-5/
END:VEVENT
END:VCALENDAR