BEGIN:VCALENDAR
VERSION:2.0
PRODID:-//Wohnen ohne Alterslimit - ECPv5.16.3//NONSGML v1.0//EN
CALSCALE:GREGORIAN
METHOD:PUBLISH
X-WR-CALNAME:Wohnen ohne Alterslimit
X-ORIGINAL-URL:https://wohnen-ohne-alterslimit.at
X-WR-CALDESC:Veranstaltungen für Wohnen ohne Alterslimit
BEGIN:VTIMEZONE
TZID:Europe/Helsinki
BEGIN:DAYLIGHT
TZOFFSETFROM:+0200
TZOFFSETTO:+0300
TZNAME:EEST
DTSTART:20160327T010000
END:DAYLIGHT
BEGIN:STANDARD
TZOFFSETFROM:+0300
TZOFFSETTO:+0200
TZNAME:EET
DTSTART:20161030T010000
END:STANDARD
END:VTIMEZONE
BEGIN:VEVENT
DTSTART;TZID=Europe/Helsinki:20160601T170000
DTEND;TZID=Europe/Helsinki:20160601T200000
DTSTAMP:20260424T184055
CREATED:20160518T104438Z
LAST-MODIFIED:20160529T140330Z
UID:301-1464800400-1464811200@wohnen-ohne-alterslimit.at
SUMMARY:Vorbereitung für Großes WOAL-Treffen
DESCRIPTION:
URL:https://wohnen-ohne-alterslimit.at/veranstaltung/vorbereitung-fuer-grosses-woal-treffen/
LOCATION:Armutskonferenz\, Herklotzgasse 21/3 1.Stock\, Wien\, 1150\, Österreich
CATEGORIES:WOAL Kerngruppe
END:VEVENT
END:VCALENDAR