BEGIN:VCALENDAR
VERSION:2.0
PRODID:-//Wohnen ohne Alterslimit - ECPv5.16.3//NONSGML v1.0//EN
CALSCALE:GREGORIAN
METHOD:PUBLISH
X-WR-CALNAME:Wohnen ohne Alterslimit
X-ORIGINAL-URL:https://wohnen-ohne-alterslimit.at
X-WR-CALDESC:Veranstaltungen für Wohnen ohne Alterslimit
BEGIN:VTIMEZONE
TZID:Europe/Paris
BEGIN:DAYLIGHT
TZOFFSETFROM:+0100
TZOFFSETTO:+0200
TZNAME:CEST
DTSTART:20240331T010000
END:DAYLIGHT
BEGIN:STANDARD
TZOFFSETFROM:+0200
TZOFFSETTO:+0100
TZNAME:CET
DTSTART:20241027T010000
END:STANDARD
END:VTIMEZONE
BEGIN:VEVENT
DTSTART;TZID=Europe/Paris:20241025T000000
DTEND;TZID=Europe/Paris:20241025T000000
DTSTAMP:20260424T014806
CREATED:20240913T081320Z
LAST-MODIFIED:20240913T081451Z
UID:3000-1729814400-1729814400@wohnen-ohne-alterslimit.at
SUMMARY:WOAL-Klausur
DESCRIPTION:WOAL-Herbst-Klausur\nAlle\, die in Arbeitskreisen aktiv sind und/oder  Mitglieder in der Genossenschaft sind\, werden per E-Mail mit ausführlichen Infos eingeladen. \nDatum:  Freitag\, 25. und Samstag\, 26. Oktober \n  \n  \n 
URL:https://wohnen-ohne-alterslimit.at/veranstaltung/woal-klausur-2/
END:VEVENT
END:VCALENDAR