BEGIN:VCALENDAR
VERSION:2.0
PRODID:-//Wohnen ohne Alterslimit - ECPv5.16.3//NONSGML v1.0//EN
CALSCALE:GREGORIAN
METHOD:PUBLISH
X-WR-CALNAME:Wohnen ohne Alterslimit
X-ORIGINAL-URL:https://wohnen-ohne-alterslimit.at
X-WR-CALDESC:Veranstaltungen für Wohnen ohne Alterslimit
BEGIN:VTIMEZONE
TZID:Europe/Paris
BEGIN:DAYLIGHT
TZOFFSETFROM:+0100
TZOFFSETTO:+0200
TZNAME:CEST
DTSTART:20260329T010000
END:DAYLIGHT
BEGIN:STANDARD
TZOFFSETFROM:+0200
TZOFFSETTO:+0100
TZNAME:CET
DTSTART:20261025T010000
END:STANDARD
END:VTIMEZONE
BEGIN:VEVENT
DTSTART;TZID=Europe/Paris:20260509T093000
DTEND;TZID=Europe/Paris:20260509T123000
DTSTAMP:20260423T150600
CREATED:20260421T141308Z
LAST-MODIFIED:20260421T141847Z
UID:4076-1778319000-1778329800@wohnen-ohne-alterslimit.at
SUMMARY:WOAL vor Ort
DESCRIPTION:  \nLiebe  WOAL vor Ort  Interessierte!\nwir laden dich zu folgender Veranstaltung im Rahmen der WOAL-Dialogformate ein: \nJetzt beginnt die Zeit für spannende Spaziergänge in die Kurbadstraße! Nach unserem tollen Spatenstichfest ist auf der Baustelle schon eine Menge los! Eigentlich könnten wir täglich vor Ort sein\, um zu schauen\, was wieder weitergegangen ist. \nZu unserem nächsten WOAL vor Ort-Termin am 9. Mai 2026 laden wir auch unsere\nNachbarinnen und Nachbarn von der „Vitality-Residenz“ sehr herzlich ein. Wir werfen\nzunächst einen Blick auf die Baustelle und spazieren dann zum Kronbergers Dorfmarkt in die Oberlaaerstraße 42\, wo Köstlichkeiten aus der Gegend auf uns warten! \nWann: Samstag\, der 09. Mai 2026\, um 09:30 Uhr (Ende ca. 12:30).\nTreffpunkt: Eingang zur Vitality Residenz (https://wien.vitalityresidenz.at) \n– von der Endstation U1 Oberlaa ca. 10 Minuten Fußweg entlang des Holzbauzauns an der Kurbadstraße. Vom Platz vor dem Eingang hat man auch den besten Blick auf das Baufeld 5\, wo unser WOAL Haus entsteht. \nAnmeldung: bei Ulrike (Ulli) Kobrna (ulrike.kobrna@woal.at) bis spätestens 6. Mai. \n➢  Bitte lasst uns wissen\, wer zum Dorfmarkt mitgehen wird wegen Platzreservierung!\n➢  Gebt\, bitte\, eine Telefonnummer bekannt für ev. kurzfristiger Absage/Änderung!\n➢  Bei Regen entfällt die Veranstaltung! \nDurchführung: Christine Hahn und Ulli Kobrna \nTeilnahmevoraussetzung ist\, dass du dich bereits mit dem WOAL-Konzept im Rahmen\neines Info-Abend auseinandergesetzt hast. Gilt nicht für unsere Gäste der Vitality Residenz! \nKosten: Keine\, Konsumation am Dorfmarkt ist selbst zu zahlen. Spenden sind willkommen. \nWir freuen uns auf zahlreiche Anmeldungen!\nChristine und Ulli \nps: Für mehr Einblicke und News – auch abseits von Einladungen wie dieser – einfach den\nWOAL-Newsletter abonnieren
URL:https://wohnen-ohne-alterslimit.at/veranstaltung/woal-vor-ort-5/
END:VEVENT
END:VCALENDAR