BEGIN:VCALENDAR
VERSION:2.0
PRODID:-//Wohnen ohne Alterslimit - ECPv5.16.3//NONSGML v1.0//EN
CALSCALE:GREGORIAN
METHOD:PUBLISH
X-WR-CALNAME:Wohnen ohne Alterslimit
X-ORIGINAL-URL:https://wohnen-ohne-alterslimit.at
X-WR-CALDESC:Veranstaltungen für Wohnen ohne Alterslimit
BEGIN:VTIMEZONE
TZID:Europe/Paris
BEGIN:DAYLIGHT
TZOFFSETFROM:+0100
TZOFFSETTO:+0200
TZNAME:CEST
DTSTART:20250330T010000
END:DAYLIGHT
BEGIN:STANDARD
TZOFFSETFROM:+0200
TZOFFSETTO:+0100
TZNAME:CET
DTSTART:20251026T010000
END:STANDARD
END:VTIMEZONE
BEGIN:VEVENT
DTSTART;TZID=Europe/Paris:20250503T110000
DTEND;TZID=Europe/Paris:20250503T150000
DTSTAMP:20260423T223151
CREATED:20250327T142401Z
LAST-MODIFIED:20250327T142915Z
UID:3189-1746270000-1746284400@wohnen-ohne-alterslimit.at
SUMMARY:WOAL vor Ort - Picknick im Kurpark Oberlaa
DESCRIPTION:WOAL vor Ort  – Picknick im Kurpark Oberlaa\n–  eine Veranstaltung im Rahmen der WOAL-Dialogformate \nDatum:  Samstag\,  3. Mai von 11:00 bis ca. 15:00 Uhr\n(Achtung: entfällt bei Regenwetter) \nDer Kurpark Oberlaa – quasi vor der Haustüre unseres zukünftigen WOAL Hauses – bietet zu jeder Jahreszeit Freizeit- und Erholungsmöglichkeiten im Grünen. Die in den 70er-Jahren angelegte und nach wie vor liebevoll gepflegte großzügige Parkanlage bietet auch viele Plätze zum Verweilen.\nFür unser Picknick wollen wir uns beim Filmteich niederlassen\, und dort unsere selbst mitgebrachten Kleinigkeiten und Köstlichkeiten verzehren.\nBitte nehmt alles mit\, was ihr für ein Picknick im Freien braucht!\nNatürlich werden wir auch auf unserem Bauplatz vorbeischauen und allen\, die zum ersten Mal dabei sind\, mit Plänen\, Händen und Füßen die Dimensionen unseres Hauses anschaulich zu vermitteln versuchen.\nMögen die Wettergött:innen uns an diesem Tag gewogen sein! \nGenauen Treffpunkt geben wir euch bei eurer Anmeldung bekannt.\nVoraussetzung für die Teilnahme ist der Besuch eines WOAL-Infoabends.\nKosten:  keine – Ihr nehmt selbst eure Picknick-Verpflegung mit; mehr von einer Speise/einem Getränk mitzunehmen und zu teilen\, ist willkommen;\nüber eine kleine Spende für die Organisation freuen wir uns natürlich. \nInfo und Anmeldung bei Ortrun Köhler ( ortrun.koehler@woal.at )\n(Bitte gebt bei der Anmeldung auch eure Telefonnummer bekannt\, damit wir bei unklarer Wettersituation rasch mit euch kommunizieren können.) \nBis demnächst in Oberlaa!!\nOrtrun Köhler\, Christine Hahn und Ulli Kobrna \n 
URL:https://wohnen-ohne-alterslimit.at/veranstaltung/woal-vor-ort-picknick-im-kurpark-oberlaa/
END:VEVENT
END:VCALENDAR