BEGIN:VCALENDAR
VERSION:2.0
PRODID:-//Wohnen ohne Alterslimit - ECPv5.16.3//NONSGML v1.0//EN
CALSCALE:GREGORIAN
METHOD:PUBLISH
X-WR-CALNAME:Wohnen ohne Alterslimit
X-ORIGINAL-URL:https://wohnen-ohne-alterslimit.at
X-WR-CALDESC:Veranstaltungen für Wohnen ohne Alterslimit
BEGIN:VTIMEZONE
TZID:Europe/Paris
BEGIN:DAYLIGHT
TZOFFSETFROM:+0100
TZOFFSETTO:+0200
TZNAME:CEST
DTSTART:20250330T010000
END:DAYLIGHT
BEGIN:STANDARD
TZOFFSETFROM:+0200
TZOFFSETTO:+0100
TZNAME:CET
DTSTART:20251026T010000
END:STANDARD
END:VTIMEZONE
BEGIN:VEVENT
DTSTART;TZID=Europe/Paris:20250614T093000
DTEND;TZID=Europe/Paris:20250614T133000
DTSTAMP:20260423T211941
CREATED:20250415T070130Z
LAST-MODIFIED:20250514T124347Z
UID:3249-1749893400-1749907800@wohnen-ohne-alterslimit.at
SUMMARY:Workshop:„Entscheidungen quer durchs Leben“
DESCRIPTION:Liebes WOAL-Mitglied\, liebe Interessent:innen!\n\n \nEinladung zum Workshop: „Entscheidungen quer durchs Leben“\n\n\nEr soll alle Interessent:innen bei ihrer Entscheidungsfindung unterstützen und begleiten\, ob das Wohnen im WOAL-Haus eine für sie passende Lebensform werden kann. \n> Welche Rolle spielten Entscheidungen bisher im Leben?\n> Was hat diese Entscheidungen ermöglicht bzw. beeinflusst?\n> Sind die Folgen der Entscheidungen im Rückblick bewertbar?\n> Gibt es Wissen in dir über Hilfreiches/Hinderliches bezüglich Entscheidungen? \nIn diesem Workshop beschäftigen wir uns mit Fragen wie diesen\, ergründen unsere persönliche Haltung\, tauschen unsere Überlegungen aus . \nKonzept und Durchführung:  Margret Weissenbacher und Riki Ploil \nDatum:  Samstag\, 14. Juni 2025\, Workshop inkl. Pause 9:30 Uhr bis 13:30 Uhr \nOrt:  In den Räumen der Gebietsbetreuung 10. Bezirk Quellenstrasse 149 \nKosten: inkl. Pausenverpflegung: € 25\,- bis € 75\,- nach freier Selbsteinschätzung (bzw. Rückfrage bei Margret Weissenbacher). Die Einnahmen kommen – nach Abzug der Sachkosten für das Seminar – dem Verein WOAL zugute.\n. \n\nZuerst die Anmeldung: per E-Mail bis spätestens Dienstag 10. Juni 2025 erbeten.\nDann auf eine Rückmeldung von uns warten.\nDann erst einzahlen.\n\nDie Anmeldung ist fix\, wenn der Teilnehmer:innenbeitrag am Konto eingelangt ist. Maximal 15 Teilnehmer:innen. \nKontonummer:  Bitte um Einzahlung auf Konto „Wohnen ohne Alterslimit“\, bei BAWAG\, IBAN: AT52 1400 0048 1085 6527\, Verwendungszweck: „Entscheidungen quer durchs Leben“. \nAnmeldung und Rückfragen:  per Mail: margretweissenbacher@a1.net\noder per Telefon/SMS: bei Margret Weissenbacher 0664 6589899 \nWir freuen uns auf zahlreiche Anmeldungen!\nMargret und Riki
URL:https://wohnen-ohne-alterslimit.at/veranstaltung/workshop-entscheidungen-quer-durchs-leben-2/
LOCATION:Stadtteilbüro für die Bez. 3\,4\,5\,10\,11\, Quellenstraße 149\, 1100 Wien
END:VEVENT
END:VCALENDAR