BEGIN:VCALENDAR
VERSION:2.0
PRODID:-//Wohnen ohne Alterslimit - ECPv5.16.3//NONSGML v1.0//EN
CALSCALE:GREGORIAN
METHOD:PUBLISH
X-WR-CALNAME:Wohnen ohne Alterslimit
X-ORIGINAL-URL:https://wohnen-ohne-alterslimit.at
X-WR-CALDESC:Veranstaltungen für Wohnen ohne Alterslimit
BEGIN:VTIMEZONE
TZID:Europe/Paris
BEGIN:DAYLIGHT
TZOFFSETFROM:+0100
TZOFFSETTO:+0200
TZNAME:CEST
DTSTART:20230326T010000
END:DAYLIGHT
BEGIN:STANDARD
TZOFFSETFROM:+0200
TZOFFSETTO:+0100
TZNAME:CET
DTSTART:20231029T010000
END:STANDARD
END:VTIMEZONE
BEGIN:VEVENT
DTSTART;TZID=Europe/Paris:20230603T000000
DTEND;TZID=Europe/Paris:20230603T000000
DTSTAMP:20260424T110919
CREATED:20230519T130520Z
LAST-MODIFIED:20230519T135300Z
UID:1517-1685750400-1685750400@wohnen-ohne-alterslimit.at
SUMMARY:Workshop: Solidarität
DESCRIPTION:Workshop: Solidarität\n– eine Veranstaltung im Rahmen der WOAL-Dialogformate \n\nDatum: Samstag\, 3. Juni 2023\nTeilnahmevoraussetzung ist der Besuch eines Info-Abends! Einladungen werden per E-Mail an alle Teilnehmer:innen der bisherigen Infoabende ausgeschickt.\nAnmeldung\, Info und Details bei Ulli Kobrna (ulrike.kobrna@gmx.at) \nWas erwartet euch?\nDie Gemeinschaft ist stärker als Geld!\nWas ist der Kitt einer Gemeinschaft?\nWelche Rolle spielt dabei Solidarität?\nWas kann Solidarität? Und wo sind ihre Grenzen? \nIn diesem Workshop beschäftigen wir uns mit Fragen wie diesen\, streifen theoretische Überlegungen zur Solidarität\, ergründen unsere persönliche Haltung\, tauschen uns aus und schlagen die Brücke zur „Solidarität“ als einen der 4 Grundpfeiler des WOAL-Konzepts. \nDurchführung: Ulli Kobrna und Uschi Tiefenbacher
URL:https://wohnen-ohne-alterslimit.at/veranstaltung/workshop-solidaritaet/
END:VEVENT
END:VCALENDAR