BEGIN:VCALENDAR
VERSION:2.0
PRODID:-//Wohnen ohne Alterslimit - ECPv5.16.3//NONSGML v1.0//EN
CALSCALE:GREGORIAN
METHOD:PUBLISH
X-WR-CALNAME:Wohnen ohne Alterslimit
X-ORIGINAL-URL:https://wohnen-ohne-alterslimit.at
X-WR-CALDESC:Veranstaltungen für Wohnen ohne Alterslimit
BEGIN:VTIMEZONE
TZID:Europe/Paris
BEGIN:DAYLIGHT
TZOFFSETFROM:+0100
TZOFFSETTO:+0200
TZNAME:CEST
DTSTART:20240331T010000
END:DAYLIGHT
BEGIN:STANDARD
TZOFFSETFROM:+0200
TZOFFSETTO:+0100
TZNAME:CET
DTSTART:20241027T010000
END:STANDARD
END:VTIMEZONE
BEGIN:VEVENT
DTSTART;TZID=Europe/Paris:20240310T000000
DTEND;TZID=Europe/Paris:20240310T000000
DTSTAMP:20260424T072406
CREATED:20240309T074412Z
LAST-MODIFIED:20240309T082935Z
UID:2731-1710028800-1710028800@wohnen-ohne-alterslimit.at
SUMMARY:Workshop: Vorsorgevollmacht
DESCRIPTION:Workshop: Vorsorgevollmacht\n– eine Veranstaltung im Rahmen der WOAL-Dialogformate \n\nDatum: Sonntag\, 10. März 2024 \nTeilnahmevoraussetzung ist der Besuch eines Info-Abends! Einladungen mit Angabe von Ort und genauer Zeit werden per E-Mail an alle Teilnehmer:innen der bisherigen Infoabende und an alle Mitglieder ausgeschickt. \nWir haben uns ein kreatives Format überlegt\, um das anspruchsvolle Thema der Vorsorgevollmacht auf persönliche und anregende Weise mit den Teilnehmer:innen gemeinsam zu behandeln. \n\n\n\nWas ist Selbstbestimmtheit für mich?\nWo endet meine Selbstbestimmung?\nWie finde ich meine Vertrauensperson/en?\nWas will ich gerne regeln?\nWorauf ist bei der Erstellung der Vorsorgevollmacht zu achten?\n\n\n\nKonzept und Durchführung: Bernhard Liebisch und Margret Weissenbacher
URL:https://wohnen-ohne-alterslimit.at/veranstaltung/workshop-vorsorgevollmacht-3/
END:VEVENT
END:VCALENDAR