BEGIN:VCALENDAR
VERSION:2.0
PRODID:-//Wohnen ohne Alterslimit - ECPv5.16.3//NONSGML v1.0//EN
CALSCALE:GREGORIAN
METHOD:PUBLISH
X-WR-CALNAME:Wohnen ohne Alterslimit
X-ORIGINAL-URL:https://wohnen-ohne-alterslimit.at
X-WR-CALDESC:Veranstaltungen für Wohnen ohne Alterslimit
BEGIN:VTIMEZONE
TZID:Europe/Paris
BEGIN:DAYLIGHT
TZOFFSETFROM:+0100
TZOFFSETTO:+0200
TZNAME:CEST
DTSTART:20250330T010000
END:DAYLIGHT
BEGIN:STANDARD
TZOFFSETFROM:+0200
TZOFFSETTO:+0100
TZNAME:CET
DTSTART:20251026T010000
END:STANDARD
END:VTIMEZONE
BEGIN:VEVENT
DTSTART;TZID=Europe/Paris:20250524T093000
DTEND;TZID=Europe/Paris:20250524T143000
DTSTAMP:20260423T212647
CREATED:20250419T133810Z
LAST-MODIFIED:20250423T052122Z
UID:3260-1748079000-1748097000@wohnen-ohne-alterslimit.at
SUMMARY:Workshop: „Alles geregelt - alles klar?“
DESCRIPTION:Liebes WOAL Vereinsmitglied\, liebe Genossenschafterin\, lieber Genossenschafter\,\nliebe Interessentin\, lieber Interessent\, \nwir laden dich zu folgender Veranstaltung im Rahmen der WOAL-Dialogformate ein: \nWorkshop: „Alles geregelt – alles klar?“ \nSelbstbestimmt & selbstverwaltet in WOAL leben – Über die Sinnhaftigkeit und den Gestaltungsspielraum von Regelwerken \nIn diesem Workshop beschäftigen wir uns mit dem Verständnis für Regelwerke\, die für WOAL von „innen“ und „außen“ gelten. Ohne uns in Paragraphen und juristischen Formulierungen zu verfangen …\n. \n\n… verschaffen wir uns einen Überblick\, welche Regelwerke für uns im WOAL Projekt gelten bzw. von Bedeutung sind\n… lernen wir\, uns in diesen Regelwerken zu bewegen\, erarbeiten Gestaltungs(spiel)räume und erkennen Grenzen\n… sehen wir den basalen Zusammenhang zwischen Selbstbestimmung und Mitverantwortung für das Ganze\n\nKonzept und Durchführung:  Ulli Kobrna und Barbara Hartl \nDatum:  Samstag\, 24. Mai 2025\, WS inkl. Pause 9:30 Uhr bis 14:30 Uhr\nOrt:  In den Räumen der Gebietsbetreuung 10. Bezirk\, Quellenstraße 149\, 1100 Wien \nKosten: inkl. Pausenverpflegung: € 25\,- – € 75\,- nach freier Selbsteinschätzung. Die Einnahmen kommen – nach Abzug der Sachkosten – dem Verein WOAL zugute. Sollte es dir nicht möglich sein\, den Mindestbeitrag von € 25\,- zu zahlen\, melde dich\, bitte\, bei einer der Workshop-Halterinnen; eine weitere Reduzierung auf € 15\,- ist in Ausnahmefällen möglich. \nAnmeldung: bei Barbara Hartl baha@chello.at\nDie Anmeldung ist fix\, wenn der Teilnahmebeitrag am Konto eingelangt ist.\nBitte um Einzahlung auf Konto „Wohnen ohne Alterslimit“\, bei BAWAG\,\nIBAN: AT52 1400 0048 1085 6527\, Verwendungszweck: „Alles geregelt“ \nRückfragen: bei Barbara Hartl unter baha@chello.at oder per Telefon/SMS/WhatsApp/Signal unter 0664 1140562. \nWir freuen uns auf zahlreiche Anmeldungen!\nBarbara und Ulli
URL:https://wohnen-ohne-alterslimit.at/veranstaltung/xxws/
END:VEVENT
END:VCALENDAR