BEGIN:VCALENDAR
VERSION:2.0
PRODID:-//Wohnen ohne Alterslimit - ECPv5.16.3//NONSGML v1.0//EN
CALSCALE:GREGORIAN
METHOD:PUBLISH
X-WR-CALNAME:Wohnen ohne Alterslimit
X-ORIGINAL-URL:https://wohnen-ohne-alterslimit.at
X-WR-CALDESC:Veranstaltungen für Wohnen ohne Alterslimit
BEGIN:VTIMEZONE
TZID:Europe/Paris
BEGIN:DAYLIGHT
TZOFFSETFROM:+0100
TZOFFSETTO:+0200
TZNAME:CEST
DTSTART:20240331T010000
END:DAYLIGHT
BEGIN:STANDARD
TZOFFSETFROM:+0200
TZOFFSETTO:+0100
TZNAME:CET
DTSTART:20241027T010000
END:STANDARD
END:VTIMEZONE
BEGIN:VEVENT
DTSTART;TZID=Europe/Paris:20240930T183000
DTEND;TZID=Europe/Paris:20240930T210000
DTSTAMP:20260423T225954
CREATED:20240722T080057Z
LAST-MODIFIED:20240922T062854Z
UID:2905-1727721000-1727730000@wohnen-ohne-alterslimit.at
SUMMARY:INFO - ABEND
DESCRIPTION:Bitte bei Interesse um Anmeldung bis zum 27.9. !!\nDa im Augenblick sehr wenig Anmeldungen für den 30.9. sind\, müsste dieser Infoabend sonst leider ausfallen. \n\n\n \n\n\nBei den regelmäßig stattfindenden Infoabenden stellen wir das WOAL-Konzept vor:\n\n\n\ndie Vier Eckpfeiler der WOAL-Häuser\ndas WOAL Organisationskonzept\ndas WOAL Betreuungs- und Pflegekonzept\ndie BewohnerInnen\ndas Raum- und Nutzungskonzept\ndie Finanzierung\ndie rechtliche Konstruktion\n\n\n\n\n\n… und berichten kurz über aktuelle Entwicklungen\n.\nFalls du schon einmal einen Infoabend besucht hast und dich für unser erstes WOAL-Haus in der Kurbadstraße Oberlaa interessierst\, melde dich bitte nicht noch einmal für einen Infoabend an\, sondern besuche einen „Stammtisch“ (Termine siehe Veranstaltungsankündigungen).\n\n\nBitte beachte: In ein WOAL Haus ziehen Menschen ein\, die geschäftsfähig sind und sich selbstbestimmt zum WOAL Konzept bekennen können und wollen. \nDatum: Montag\, 30.September  2024\, 18:30 bis 21:00 Uhr\nOrt:        1100 Wien\, Quellenstraße 149 – in den\n.                Räumen des Stadtteilbüros für die Bez. 3\,4\,5\,10 und 11 (Gebietsbetreuung)\n.\nBitte um Anmeldung für diesen Termin bei\nOrtrun Köhler (ortrun.koehler@woal.at).\nDeine/Ihre Anmeldung ist erforderlich\, damit wir besser planen und ggf. Absagen oder Änderungen kommunizieren können.
URL:https://wohnen-ohne-alterslimit.at/veranstaltung/xxx/
END:VEVENT
END:VCALENDAR